BEGIN:VCALENDAR
VERSION:2.0
PRODID:-//DST Houston Alumnae - ECPv6.15.11//NONSGML v1.0//EN
CALSCALE:GREGORIAN
METHOD:PUBLISH
X-ORIGINAL-URL:https://dsthoustonalumnae.org
X-WR-CALDESC:Events for DST Houston Alumnae
REFRESH-INTERVAL;VALUE=DURATION:PT1H
X-Robots-Tag:noindex
X-PUBLISHED-TTL:PT1H
BEGIN:VTIMEZONE
TZID:America/Chicago
BEGIN:DAYLIGHT
TZOFFSETFROM:-0600
TZOFFSETTO:-0500
TZNAME:CDT
DTSTART:20180311T080000
END:DAYLIGHT
BEGIN:STANDARD
TZOFFSETFROM:-0500
TZOFFSETTO:-0600
TZNAME:CST
DTSTART:20181104T070000
END:STANDARD
BEGIN:DAYLIGHT
TZOFFSETFROM:-0600
TZOFFSETTO:-0500
TZNAME:CDT
DTSTART:20190310T080000
END:DAYLIGHT
BEGIN:STANDARD
TZOFFSETFROM:-0500
TZOFFSETTO:-0600
TZNAME:CST
DTSTART:20191103T070000
END:STANDARD
BEGIN:DAYLIGHT
TZOFFSETFROM:-0600
TZOFFSETTO:-0500
TZNAME:CDT
DTSTART:20200308T080000
END:DAYLIGHT
BEGIN:STANDARD
TZOFFSETFROM:-0500
TZOFFSETTO:-0600
TZNAME:CST
DTSTART:20201101T070000
END:STANDARD
END:VTIMEZONE
BEGIN:VEVENT
DTSTART;TZID=America/Chicago:20191026T050000
DTEND;TZID=America/Chicago:20191026T090000
DTSTAMP:20260423T084723
CREATED:20191025T081204Z
LAST-MODIFIED:20191025T085321Z
UID:24721-1572066000-1572080400@dsthoustonalumnae.org
SUMMARY:DID Chapter Workshops
DESCRIPTION:DID Chapter\nWorkshop\nODP— 10:00am-\n2:00pm
URL:https://dsthoustonalumnae.org/event/did-chapter-workshops/
END:VEVENT
BEGIN:VEVENT
DTSTART;TZID=America/Chicago:20191026T090000
DTEND;TZID=America/Chicago:20191026T094500
DTSTAMP:20260423T084723
CREATED:20191025T083620Z
LAST-MODIFIED:20191025T083620Z
UID:24736-1572080400-1572083100@dsthoustonalumnae.org
SUMMARY:Directory Photo Shoot - Last Call
DESCRIPTION:Directory Photo Shoot – Last Call \n 
URL:https://dsthoustonalumnae.org/event/directory-photo-shoot-last-call/
END:VEVENT
END:VCALENDAR