BEGIN:VCALENDAR
VERSION:2.0
PRODID:-//DST Houston Alumnae - ECPv6.15.11//NONSGML v1.0//EN
CALSCALE:GREGORIAN
METHOD:PUBLISH
X-ORIGINAL-URL:https://dsthoustonalumnae.org
X-WR-CALDESC:Events for DST Houston Alumnae
REFRESH-INTERVAL;VALUE=DURATION:PT1H
X-Robots-Tag:noindex
X-PUBLISHED-TTL:PT1H
BEGIN:VTIMEZONE
TZID:America/Chicago
BEGIN:DAYLIGHT
TZOFFSETFROM:-0600
TZOFFSETTO:-0500
TZNAME:CDT
DTSTART:20180311T080000
END:DAYLIGHT
BEGIN:STANDARD
TZOFFSETFROM:-0500
TZOFFSETTO:-0600
TZNAME:CST
DTSTART:20181104T070000
END:STANDARD
BEGIN:DAYLIGHT
TZOFFSETFROM:-0600
TZOFFSETTO:-0500
TZNAME:CDT
DTSTART:20190310T080000
END:DAYLIGHT
BEGIN:STANDARD
TZOFFSETFROM:-0500
TZOFFSETTO:-0600
TZNAME:CST
DTSTART:20191103T070000
END:STANDARD
BEGIN:DAYLIGHT
TZOFFSETFROM:-0600
TZOFFSETTO:-0500
TZNAME:CDT
DTSTART:20200308T080000
END:DAYLIGHT
BEGIN:STANDARD
TZOFFSETFROM:-0500
TZOFFSETTO:-0600
TZNAME:CST
DTSTART:20201101T070000
END:STANDARD
END:VTIMEZONE
BEGIN:VEVENT
DTSTART;TZID=America/Chicago:20191016T070000
DTEND;TZID=America/Chicago:20191016T090000
DTSTAMP:20260421T170347
CREATED:20191025T081952Z
LAST-MODIFIED:20191025T082739Z
UID:24729-1571209200-1571216400@dsthoustonalumnae.org
SUMMARY:Social Action— Naturalization Ceremony
DESCRIPTION:Social Action—\nNaturalization\nCeremony
URL:https://dsthoustonalumnae.org/event/social-action-naturalization-ceremony/
CATEGORIES:Social Action
END:VEVENT
BEGIN:VEVENT
DTSTART;TZID=America/Chicago:20191013T070000
DTEND;TZID=America/Chicago:20191013T093000
DTSTAMP:20260421T170347
CREATED:20191025T082448Z
LAST-MODIFIED:20191025T082448Z
UID:24731-1570950000-1570959000@dsthoustonalumnae.org
SUMMARY:Cuney Homes Walk - Census
DESCRIPTION:Cuney Homes Walk – Census
URL:https://dsthoustonalumnae.org/event/cuney-homes-walk-census/
CATEGORIES:Social Action
END:VEVENT
BEGIN:VEVENT
DTSTART;VALUE=DATE:20190927
DTEND;VALUE=DATE:20190929
DTSTAMP:20260421T170347
CREATED:20190905T094938Z
LAST-MODIFIED:20190905T095043Z
UID:24192-1569610800-1569697199@dsthoustonalumnae.org
SUMMARY:CENSUS 2020: Census Red Army Day
DESCRIPTION:
URL:https://dsthoustonalumnae.org/event/census-2020-census-red-army-day/
CATEGORIES:Political Awareness & Involvement,Social Action
END:VEVENT
BEGIN:VEVENT
DTSTART;VALUE=DATE:20190923
DTEND;VALUE=DATE:20190925
DTSTAMP:20260421T170347
CREATED:20190905T094259Z
LAST-MODIFIED:20190905T094329Z
UID:24188-1569265200-1569351599@dsthoustonalumnae.org
SUMMARY:National Voter Registration Day
DESCRIPTION:
URL:https://dsthoustonalumnae.org/event/national-voter-registration-day/
CATEGORIES:Social Action
END:VEVENT
END:VCALENDAR