BEGIN:VCALENDAR
VERSION:2.0
PRODID:-//DST Houston Alumnae - ECPv6.15.11//NONSGML v1.0//EN
CALSCALE:GREGORIAN
METHOD:PUBLISH
X-WR-CALNAME:DST Houston Alumnae
X-ORIGINAL-URL:https://dsthoustonalumnae.org
X-WR-CALDESC:Events for DST Houston Alumnae
REFRESH-INTERVAL;VALUE=DURATION:PT1H
X-Robots-Tag:noindex
X-PUBLISHED-TTL:PT1H
BEGIN:VTIMEZONE
TZID:America/Chicago
BEGIN:DAYLIGHT
TZOFFSETFROM:-0600
TZOFFSETTO:-0500
TZNAME:CDT
DTSTART:20170312T080000
END:DAYLIGHT
BEGIN:STANDARD
TZOFFSETFROM:-0500
TZOFFSETTO:-0600
TZNAME:CST
DTSTART:20171105T070000
END:STANDARD
BEGIN:DAYLIGHT
TZOFFSETFROM:-0600
TZOFFSETTO:-0500
TZNAME:CDT
DTSTART:20180311T080000
END:DAYLIGHT
BEGIN:STANDARD
TZOFFSETFROM:-0500
TZOFFSETTO:-0600
TZNAME:CST
DTSTART:20181104T070000
END:STANDARD
BEGIN:DAYLIGHT
TZOFFSETFROM:-0600
TZOFFSETTO:-0500
TZNAME:CDT
DTSTART:20190310T080000
END:DAYLIGHT
BEGIN:STANDARD
TZOFFSETFROM:-0500
TZOFFSETTO:-0600
TZNAME:CST
DTSTART:20191103T070000
END:STANDARD
END:VTIMEZONE
BEGIN:VEVENT
DTSTART;TZID=America/Chicago:20181112T050000
DTEND;TZID=America/Chicago:20181112T063000
DTSTAMP:20260422T183442
CREATED:20181107T222134Z
LAST-MODIFIED:20181107T222134Z
UID:4498-1541998800-1542004200@dsthoustonalumnae.org
SUMMARY:Sisters Keeper Committee Meeting
DESCRIPTION:One Delta Plaza
URL:https://dsthoustonalumnae.org/event/sisters-keeper-committee-meeting/
END:VEVENT
BEGIN:VEVENT
DTSTART;TZID=America/Chicago:20181110T060000
DTEND;TZID=America/Chicago:20181110T083000
DTSTAMP:20260422T183442
CREATED:20181107T221913Z
LAST-MODIFIED:20181107T221913Z
UID:4496-1541829600-1541838600@dsthoustonalumnae.org
SUMMARY:Youth Day at HAC
DESCRIPTION:Delta GEMS \nDelta Academy \nEMBODI
URL:https://dsthoustonalumnae.org/event/youth-day-at-hac/
END:VEVENT
BEGIN:VEVENT
DTSTART;TZID=America/Chicago:20181110T040000
DTEND;TZID=America/Chicago:20181110T050000
DTSTAMP:20260422T183442
CREATED:20181107T221450Z
LAST-MODIFIED:20181107T221450Z
UID:4492-1541822400-1541826000@dsthoustonalumnae.org
SUMMARY:Financial Empowerment
DESCRIPTION:One Delta Plaza
URL:https://dsthoustonalumnae.org/event/financial-empowerment-2/
END:VEVENT
BEGIN:VEVENT
DTSTART;TZID=America/Chicago:20181110T020000
DTEND;TZID=America/Chicago:20181110T060000
DTSTAMP:20260422T183442
CREATED:20181107T221801Z
LAST-MODIFIED:20181107T221801Z
UID:4494-1541815200-1541829600@dsthoustonalumnae.org
SUMMARY:Local Projects - Service Project
DESCRIPTION:Houston Food Bank \n535 Portwall St.\nHouston\, TX 77029\n713.223.3700
URL:https://dsthoustonalumnae.org/event/local-projects-service-project/
END:VEVENT
BEGIN:VEVENT
DTSTART;TZID=America/Chicago:20181109T130000
DTEND;TZID=America/Chicago:20181109T143000
DTSTAMP:20260422T183442
CREATED:20181107T221339Z
LAST-MODIFIED:20181107T221339Z
UID:4490-1541768400-1541773800@dsthoustonalumnae.org
SUMMARY:Financial Empowerment
DESCRIPTION:One Delta Plaza
URL:https://dsthoustonalumnae.org/event/financial-empowerment/
END:VEVENT
BEGIN:VEVENT
DTSTART;TZID=America/Chicago:20181108T123000
DTEND;TZID=America/Chicago:20181108T140000
DTSTAMP:20260422T183442
CREATED:20181107T221231Z
LAST-MODIFIED:20181107T221231Z
UID:4488-1541680200-1541685600@dsthoustonalumnae.org
SUMMARY:Scholarship Committee Meeting
DESCRIPTION:Conference Call
URL:https://dsthoustonalumnae.org/event/scholarship-committee-meeting/
END:VEVENT
BEGIN:VEVENT
DTSTART;TZID=America/Chicago:20181108T123000
DTEND;TZID=America/Chicago:20181108T133000
DTSTAMP:20260422T183442
CREATED:20181107T221139Z
LAST-MODIFIED:20181107T221139Z
UID:4486-1541680200-1541683800@dsthoustonalumnae.org
SUMMARY:Local Projects Committee Meeting
DESCRIPTION:Conference Call
URL:https://dsthoustonalumnae.org/event/local-projects-committee-meeting-2/
END:VEVENT
BEGIN:VEVENT
DTSTART;TZID=America/Chicago:20181107T143000
DTEND;TZID=America/Chicago:20181107T153000
DTSTAMP:20260422T183442
CREATED:20181107T221044Z
LAST-MODIFIED:20181107T221044Z
UID:4484-1541601000-1541604600@dsthoustonalumnae.org
SUMMARY:LEAD Mentoring Committee Meeting
DESCRIPTION:Conference Call
URL:https://dsthoustonalumnae.org/event/lead-mentoring-committee-meeting/
END:VEVENT
BEGIN:VEVENT
DTSTART;TZID=America/Chicago:20181106T143000
DTEND;TZID=America/Chicago:20181106T153000
DTSTAMP:20260422T183442
CREATED:20181107T220735Z
LAST-MODIFIED:20181107T220735Z
UID:4478-1541514600-1541518200@dsthoustonalumnae.org
SUMMARY:Delta Academy Committee Meeting
DESCRIPTION:Conference Call
URL:https://dsthoustonalumnae.org/event/delta-academy-committee-meeting-2/
END:VEVENT
BEGIN:VEVENT
DTSTART;TZID=America/Chicago:20181105T140000
DTEND;TZID=America/Chicago:20181105T150000
DTSTAMP:20260422T183442
CREATED:20181107T220649Z
LAST-MODIFIED:20181107T220649Z
UID:4476-1541426400-1541430000@dsthoustonalumnae.org
SUMMARY:GEMS Committee Meeting
DESCRIPTION:Conference Call
URL:https://dsthoustonalumnae.org/event/gems-committee-meeting/
END:VEVENT
BEGIN:VEVENT
DTSTART;TZID=America/Chicago:20181105T123000
DTEND;TZID=America/Chicago:20181105T143000
DTSTAMP:20260422T183442
CREATED:20181107T220828Z
LAST-MODIFIED:20181107T220828Z
UID:4480-1541421000-1541428200@dsthoustonalumnae.org
SUMMARY:Membership Services Committee Meeting
DESCRIPTION:One Delta Plaza
URL:https://dsthoustonalumnae.org/event/membership-services-committee-meeting-2/
END:VEVENT
BEGIN:VEVENT
DTSTART;TZID=America/Chicago:20181105T120000
DTEND;TZID=America/Chicago:20181105T140000
DTSTAMP:20260422T183442
CREATED:20181107T220537Z
LAST-MODIFIED:20181107T220537Z
UID:4473-1541419200-1541426400@dsthoustonalumnae.org
SUMMARY:Jazz Soiree Committee Meeting
DESCRIPTION:One Delta Plaza
URL:https://dsthoustonalumnae.org/event/jazz-soiree-committee-meeting/
END:VEVENT
BEGIN:VEVENT
DTSTART;TZID=America/Chicago:20181104T100000
DTEND;TZID=America/Chicago:20181104T130000
DTSTAMP:20260422T183442
CREATED:20181107T220942Z
LAST-MODIFIED:20181107T220942Z
UID:4482-1541325600-1541336400@dsthoustonalumnae.org
SUMMARY:LEAD Mentoring Program - Kick Off
DESCRIPTION:
URL:https://dsthoustonalumnae.org/event/lead-mentoring-program-kick-off/
END:VEVENT
BEGIN:VEVENT
DTSTART;TZID=America/Chicago:20181103T093000
DTEND;TZID=America/Chicago:20181103T113000
DTSTAMP:20260422T183442
CREATED:20181006T020256Z
LAST-MODIFIED:20181006T020256Z
UID:4399-1541237400-1541244600@dsthoustonalumnae.org
SUMMARY:Chapter Meeting
DESCRIPTION:Peck Elementary
URL:https://dsthoustonalumnae.org/event/chapter-meeting-2/
END:VEVENT
BEGIN:VEVENT
DTSTART;TZID=America/Chicago:20181101T133000
DTEND;TZID=America/Chicago:20181101T153000
DTSTAMP:20260422T183442
CREATED:20181006T020203Z
LAST-MODIFIED:20181006T020203Z
UID:4397-1541079000-1541086200@dsthoustonalumnae.org
SUMMARY:Executive Board Meeting
DESCRIPTION:ODP
URL:https://dsthoustonalumnae.org/event/executive-board-meeting-3/
END:VEVENT
BEGIN:VEVENT
DTSTART;TZID=America/Chicago:20181027T110000
DTEND;TZID=America/Chicago:20181027T130000
DTSTAMP:20260422T183442
CREATED:20181006T020035Z
LAST-MODIFIED:20181006T020035Z
UID:4395-1540638000-1540645200@dsthoustonalumnae.org
SUMMARY:LEAD Program Kick-Off
DESCRIPTION:ODP \n 
URL:https://dsthoustonalumnae.org/event/lead-program-kick-off/
END:VEVENT
BEGIN:VEVENT
DTSTART;TZID=America/Chicago:20181020T070000
DTEND;TZID=America/Chicago:20181020T100000
DTSTAMP:20260422T183442
CREATED:20181005T094234Z
LAST-MODIFIED:20181005T094234Z
UID:4392-1540018800-1540029600@dsthoustonalumnae.org
SUMMARY:Cops\, Kids & Conversations Part II
DESCRIPTION:One Delta Plaza
URL:https://dsthoustonalumnae.org/event/cops-kids-conversations-part-ii/
END:VEVENT
BEGIN:VEVENT
DTSTART;TZID=America/Chicago:20181017T133000
DTEND;TZID=America/Chicago:20181017T143000
DTSTAMP:20260422T183442
CREATED:20181005T094026Z
LAST-MODIFIED:20181005T094026Z
UID:4390-1539783000-1539786600@dsthoustonalumnae.org
SUMMARY:Protocol and Traditions Committee Meeting
DESCRIPTION:One Delta Plaza
URL:https://dsthoustonalumnae.org/event/protocol-and-traditions-committee-meeting/
END:VEVENT
BEGIN:VEVENT
DTSTART;TZID=America/Chicago:20181016T143000
DTEND;TZID=America/Chicago:20181016T153000
DTSTAMP:20260422T183442
CREATED:20181005T093838Z
LAST-MODIFIED:20181005T093838Z
UID:4388-1539700200-1539703800@dsthoustonalumnae.org
SUMMARY:Conference & Convention Committee Meeting
DESCRIPTION:Conference Call
URL:https://dsthoustonalumnae.org/event/conference-convention-committee-meeting/
END:VEVENT
BEGIN:VEVENT
DTSTART;TZID=America/Chicago:20181015T133000
DTEND;TZID=America/Chicago:20181015T153000
DTSTAMP:20260422T183442
CREATED:20181005T093653Z
LAST-MODIFIED:20181005T093653Z
UID:4386-1539610200-1539617400@dsthoustonalumnae.org
SUMMARY:Special Events - Jazz Soiree Committee Meeting
DESCRIPTION:One Delta Plaza \nMeeting & Collection
URL:https://dsthoustonalumnae.org/event/special-events-jazz-soiree-committee-meeting/
END:VEVENT
BEGIN:VEVENT
DTSTART;TZID=America/Chicago:20181011T133000
DTEND;TZID=America/Chicago:20181011T143000
DTSTAMP:20260422T183442
CREATED:20181005T093435Z
LAST-MODIFIED:20181005T093435Z
UID:4384-1539264600-1539268200@dsthoustonalumnae.org
SUMMARY:Local Projects Committee Meeting
DESCRIPTION:One Delta Plaza
URL:https://dsthoustonalumnae.org/event/local-projects-committee-meeting/
END:VEVENT
BEGIN:VEVENT
DTSTART;TZID=America/Chicago:20181010T153000
DTEND;TZID=America/Chicago:20181010T163000
DTSTAMP:20260422T183442
CREATED:20181005T093103Z
LAST-MODIFIED:20181005T093130Z
UID:4380-1539185400-1539189000@dsthoustonalumnae.org
SUMMARY:Delta Academy Committee Meeting
DESCRIPTION:Conference Call
URL:https://dsthoustonalumnae.org/event/delta-academy-committee-meeting/
END:VEVENT
BEGIN:VEVENT
DTSTART;TZID=America/Chicago:20181010T133000
DTEND;TZID=America/Chicago:20181010T150000
DTSTAMP:20260422T183442
CREATED:20181005T093310Z
LAST-MODIFIED:20181005T093310Z
UID:4382-1539178200-1539183600@dsthoustonalumnae.org
SUMMARY:Heritage and Archives Committee Meeting
DESCRIPTION:Clean and rearrange archives \nOne Delta Plaza
URL:https://dsthoustonalumnae.org/event/heritage-and-archives-committee-meeting/
END:VEVENT
BEGIN:VEVENT
DTSTART;TZID=America/Chicago:20181009T153000
DTEND;TZID=America/Chicago:20181009T163000
DTSTAMP:20260422T183442
CREATED:20181005T092726Z
LAST-MODIFIED:20181005T092726Z
UID:4376-1539099000-1539102600@dsthoustonalumnae.org
SUMMARY:Delta GEMS Committee Meeting
DESCRIPTION:Conference Call
URL:https://dsthoustonalumnae.org/event/delta-gems-committee-meeting/
END:VEVENT
BEGIN:VEVENT
DTSTART;TZID=America/Chicago:20181009T133000
DTEND;TZID=America/Chicago:20181009T143000
DTSTAMP:20260422T183442
CREATED:20181005T092545Z
LAST-MODIFIED:20181005T092545Z
UID:4374-1539091800-1539095400@dsthoustonalumnae.org
SUMMARY:Risk Management - Volunteer Training
DESCRIPTION:One Delta Plaza
URL:https://dsthoustonalumnae.org/event/risk-management-volunteer-training/
END:VEVENT
BEGIN:VEVENT
DTSTART;TZID=America/Chicago:20181008T133000
DTEND;TZID=America/Chicago:20181008T150000
DTSTAMP:20260422T183442
CREATED:20181005T092937Z
LAST-MODIFIED:20181005T092937Z
UID:4378-1539005400-1539010800@dsthoustonalumnae.org
SUMMARY:Membership Services Committee Meeting
DESCRIPTION:One Delta Plaza
URL:https://dsthoustonalumnae.org/event/membership-services-committee-meeting/
END:VEVENT
BEGIN:VEVENT
DTSTART;TZID=America/Chicago:20181006T093000
DTEND;TZID=America/Chicago:20181006T103000
DTSTAMP:20260422T183442
CREATED:20181005T091724Z
LAST-MODIFIED:20181005T092125Z
UID:4366-1538818200-1538821800@dsthoustonalumnae.org
SUMMARY:Chapter Meeting - Honoring Cancer Survivors
DESCRIPTION:Peck Elementary \n5001 M L K Blvd.
URL:https://dsthoustonalumnae.org/event/chapter-meeting/
END:VEVENT
BEGIN:VEVENT
DTSTART;TZID=America/Chicago:20181006T080000
DTEND;TZID=America/Chicago:20181006T090000
DTSTAMP:20260422T183442
CREATED:20181005T091901Z
LAST-MODIFIED:20181005T091901Z
UID:4368-1538812800-1538816400@dsthoustonalumnae.org
SUMMARY:Nominating Committee - Workshop
DESCRIPTION:Peck Elementary \nLibrary
URL:https://dsthoustonalumnae.org/event/nominating-committee-workshop/
END:VEVENT
BEGIN:VEVENT
DTSTART;TZID=America/Chicago:20181004T133000
DTEND;TZID=America/Chicago:20181004T153000
DTSTAMP:20260422T183442
CREATED:20181005T091536Z
LAST-MODIFIED:20181005T091536Z
UID:4364-1538659800-1538667000@dsthoustonalumnae.org
SUMMARY:Executive Board Meeting
DESCRIPTION:One Delta Plaza
URL:https://dsthoustonalumnae.org/event/executive-board-meeting-2/
END:VEVENT
BEGIN:VEVENT
DTSTART;TZID=America/Chicago:20180915T053000
DTEND;TZID=America/Chicago:20180915T073000
DTSTAMP:20260422T183442
CREATED:20180904T201658Z
LAST-MODIFIED:20180904T201658Z
UID:4072-1536989400-1536996600@dsthoustonalumnae.org
SUMMARY:2018 Candidates Forum
DESCRIPTION:Houston Alumnae Chapter of Delta Sigma Theta Sorority\, Inc\, the Houston Area Urban League Young Professionals (HAULYP)\, and Wheeler Avenue Baptist Church at the Candidates Forum to ensure our community needs are addressed during this election cycle.\nHere are the confirmed candidates to attend:\nThe following candidates have confirmed attendance as of today:\nLt. Governor- Mike Collier\nU.S. Senator – Beto Orouke representative\, Khanay Turner\nU.S. Rep.- Lizzie Fletcher\nU.S. Rep – Mike Siegel\nU.S. Rep- Dan Crenshaw\nU.S. Rep.- Sri Preston Kulkarni\nState Senate – David Romero\nRailroad Commissioner – D. Roman McAllen\nHarris County Judge – Ed. Emmett\nHarris County Clerk – Chris Daniel\nHarris County Treasurer- Orlando Sanchez \n\n 
URL:https://dsthoustonalumnae.org/event/2018-candidates-forum/
END:VEVENT
END:VCALENDAR