BEGIN:VCALENDAR
VERSION:2.0
PRODID:-//DST Houston Alumnae - ECPv6.15.11//NONSGML v1.0//EN
CALSCALE:GREGORIAN
METHOD:PUBLISH
X-WR-CALNAME:DST Houston Alumnae
X-ORIGINAL-URL:https://dsthoustonalumnae.org
X-WR-CALDESC:Events for DST Houston Alumnae
REFRESH-INTERVAL;VALUE=DURATION:PT1H
X-Robots-Tag:noindex
X-PUBLISHED-TTL:PT1H
BEGIN:VTIMEZONE
TZID:America/Chicago
BEGIN:DAYLIGHT
TZOFFSETFROM:-0600
TZOFFSETTO:-0500
TZNAME:CDT
DTSTART:20170312T080000
END:DAYLIGHT
BEGIN:STANDARD
TZOFFSETFROM:-0500
TZOFFSETTO:-0600
TZNAME:CST
DTSTART:20171105T070000
END:STANDARD
BEGIN:DAYLIGHT
TZOFFSETFROM:-0600
TZOFFSETTO:-0500
TZNAME:CDT
DTSTART:20180311T080000
END:DAYLIGHT
BEGIN:STANDARD
TZOFFSETFROM:-0500
TZOFFSETTO:-0600
TZNAME:CST
DTSTART:20181104T070000
END:STANDARD
BEGIN:DAYLIGHT
TZOFFSETFROM:-0600
TZOFFSETTO:-0500
TZNAME:CDT
DTSTART:20190310T080000
END:DAYLIGHT
BEGIN:STANDARD
TZOFFSETFROM:-0500
TZOFFSETTO:-0600
TZNAME:CST
DTSTART:20191103T070000
END:STANDARD
END:VTIMEZONE
BEGIN:VEVENT
DTSTART;TZID=America/Chicago:20181004T133000
DTEND;TZID=America/Chicago:20181004T153000
DTSTAMP:20260424T104750
CREATED:20181005T091536Z
LAST-MODIFIED:20181005T091536Z
UID:4364-1538659800-1538667000@dsthoustonalumnae.org
SUMMARY:Executive Board Meeting
DESCRIPTION:One Delta Plaza
URL:https://dsthoustonalumnae.org/event/executive-board-meeting-2/
END:VEVENT
BEGIN:VEVENT
DTSTART;TZID=America/Chicago:20180915T053000
DTEND;TZID=America/Chicago:20180915T073000
DTSTAMP:20260424T104750
CREATED:20180904T201658Z
LAST-MODIFIED:20180904T201658Z
UID:4072-1536989400-1536996600@dsthoustonalumnae.org
SUMMARY:2018 Candidates Forum
DESCRIPTION:Houston Alumnae Chapter of Delta Sigma Theta Sorority\, Inc\, the Houston Area Urban League Young Professionals (HAULYP)\, and Wheeler Avenue Baptist Church at the Candidates Forum to ensure our community needs are addressed during this election cycle.\nHere are the confirmed candidates to attend:\nThe following candidates have confirmed attendance as of today:\nLt. Governor- Mike Collier\nU.S. Senator – Beto Orouke representative\, Khanay Turner\nU.S. Rep.- Lizzie Fletcher\nU.S. Rep – Mike Siegel\nU.S. Rep- Dan Crenshaw\nU.S. Rep.- Sri Preston Kulkarni\nState Senate – David Romero\nRailroad Commissioner – D. Roman McAllen\nHarris County Judge – Ed. Emmett\nHarris County Clerk – Chris Daniel\nHarris County Treasurer- Orlando Sanchez \n\n 
URL:https://dsthoustonalumnae.org/event/2018-candidates-forum/
END:VEVENT
BEGIN:VEVENT
DTSTART;TZID=America/Chicago:20180908T093000
DTEND;TZID=America/Chicago:20180908T093000
DTSTAMP:20260424T104750
CREATED:20180730T101329Z
LAST-MODIFIED:20180730T101329Z
UID:4064-1536399000-1536399000@dsthoustonalumnae.org
SUMMARY:HAC Chapter Meeting
DESCRIPTION:Houston Alumnae Chapter – Sorority Meeting \n@ Lora Peck Elementary School \n5001 Martin Luther King Blvd Houston\, TX 77021-2711
URL:https://dsthoustonalumnae.org/event/hac-chapter-meeting/
END:VEVENT
BEGIN:VEVENT
DTSTART;TZID=America/Chicago:20180908T030000
DTEND;TZID=America/Chicago:20180908T080000
DTSTAMP:20260424T104750
CREATED:20180815T073053Z
LAST-MODIFIED:20180815T073053Z
UID:4069-1536375600-1536393600@dsthoustonalumnae.org
SUMMARY:Sickle Cell Houston 5k Walk
DESCRIPTION:5225 Calhoun Rd.\, Houston\, TX  77021
URL:https://dsthoustonalumnae.org/event/sickle-cell-houston-5k-walk/
END:VEVENT
BEGIN:VEVENT
DTSTART;TZID=America/Chicago:20180906T133000
DTEND;TZID=America/Chicago:20180906T150000
DTSTAMP:20260424T104750
CREATED:20180905T204806Z
LAST-MODIFIED:20180905T204806Z
UID:4110-1536240600-1536246000@dsthoustonalumnae.org
SUMMARY:Executive Board Meeting
DESCRIPTION:One Delta Plaza
URL:https://dsthoustonalumnae.org/event/executive-board-meeting/
END:VEVENT
BEGIN:VEVENT
DTSTART;TZID=America/Chicago:20180830T130000
DTEND;TZID=America/Chicago:20180830T160000
DTSTAMP:20260424T104750
CREATED:20180815T073022Z
LAST-MODIFIED:20180815T073022Z
UID:4068-1535634000-1535644800@dsthoustonalumnae.org
SUMMARY:Chucks & Crayons
DESCRIPTION:The Grove – 1611 Lamar Street\, Houston\, TX \n 
URL:https://dsthoustonalumnae.org/event/chucks-crayons/
END:VEVENT
BEGIN:VEVENT
DTSTART;TZID=America/Chicago:20180811T040000
DTEND;TZID=America/Chicago:20180811T080000
DTSTAMP:20260424T104750
CREATED:20180811T114945Z
LAST-MODIFIED:20180811T114945Z
UID:4066-1533960000-1533974400@dsthoustonalumnae.org
SUMMARY:Chapter Retreat
DESCRIPTION:
URL:https://dsthoustonalumnae.org/event/chapter-retreat/
END:VEVENT
BEGIN:VEVENT
DTSTART;TZID=America/Chicago:20180810T130000
DTEND;TZID=America/Chicago:20180810T160000
DTSTAMP:20260424T104750
CREATED:20180811T114733Z
LAST-MODIFIED:20180811T114733Z
UID:4065-1533906000-1533916800@dsthoustonalumnae.org
SUMMARY:Exec Board Retreat
DESCRIPTION:
URL:https://dsthoustonalumnae.org/event/exec-board-retreat/
END:VEVENT
BEGIN:VEVENT
DTSTART;VALUE=DATE:20180803
DTEND;VALUE=DATE:20180805
DTSTAMP:20260424T104750
CREATED:20180730T091013Z
LAST-MODIFIED:20180730T091013Z
UID:4063-1533322800-1533409199@dsthoustonalumnae.org
SUMMARY:Exec Comm Retreat
DESCRIPTION:
URL:https://dsthoustonalumnae.org/event/eb-retreat/
LOCATION:TBD
END:VEVENT
END:VCALENDAR