BEGIN:VCALENDAR
VERSION:2.0
PRODID:-//DST Houston Alumnae - ECPv6.15.11//NONSGML v1.0//EN
CALSCALE:GREGORIAN
METHOD:PUBLISH
X-WR-CALNAME:DST Houston Alumnae
X-ORIGINAL-URL:https://dsthoustonalumnae.org
X-WR-CALDESC:Events for DST Houston Alumnae
REFRESH-INTERVAL;VALUE=DURATION:PT1H
X-Robots-Tag:noindex
X-PUBLISHED-TTL:PT1H
BEGIN:VTIMEZONE
TZID:America/Chicago
BEGIN:DAYLIGHT
TZOFFSETFROM:-0600
TZOFFSETTO:-0500
TZNAME:CDT
DTSTART:20180311T080000
END:DAYLIGHT
BEGIN:STANDARD
TZOFFSETFROM:-0500
TZOFFSETTO:-0600
TZNAME:CST
DTSTART:20181104T070000
END:STANDARD
BEGIN:DAYLIGHT
TZOFFSETFROM:-0600
TZOFFSETTO:-0500
TZNAME:CDT
DTSTART:20190310T080000
END:DAYLIGHT
BEGIN:STANDARD
TZOFFSETFROM:-0500
TZOFFSETTO:-0600
TZNAME:CST
DTSTART:20191103T070000
END:STANDARD
BEGIN:DAYLIGHT
TZOFFSETFROM:-0600
TZOFFSETTO:-0500
TZNAME:CDT
DTSTART:20200308T080000
END:DAYLIGHT
BEGIN:STANDARD
TZOFFSETFROM:-0500
TZOFFSETTO:-0600
TZNAME:CST
DTSTART:20201101T070000
END:STANDARD
BEGIN:DAYLIGHT
TZOFFSETFROM:-0600
TZOFFSETTO:-0500
TZNAME:CDT
DTSTART:20210314T080000
END:DAYLIGHT
BEGIN:STANDARD
TZOFFSETFROM:-0500
TZOFFSETTO:-0600
TZNAME:CST
DTSTART:20211107T070000
END:STANDARD
END:VTIMEZONE
BEGIN:VEVENT
DTSTART;TZID=America/Chicago:20201114T110000
DTEND;TZID=America/Chicago:20201114T130000
DTSTAMP:20260421T042114
CREATED:20201013T191843Z
LAST-MODIFIED:20201103T105150Z
UID:26201-1605351600-1605358800@dsthoustonalumnae.org
SUMMARY:Reclamation Event
DESCRIPTION:Calling all active\, recently reclaimed\,& soon-to-be active Sorors! Please join us for our Back To The 80’s reclamation event. Come prepared for an evening of excitement! Registration must be completed at least 48 hours prior to the event in order to attend. We look forward to seeing you there. \nVia Zoom \nRegister in advance for this meeting:
URL:https://dsthoustonalumnae.org/event/reclamation-event/
END:VEVENT
BEGIN:VEVENT
DTSTART;TZID=America/Chicago:20201114T060000
DTEND;TZID=America/Chicago:20201114T083000
DTSTAMP:20260421T042114
CREATED:20201103T101609Z
LAST-MODIFIED:20201103T104202Z
UID:26503-1605333600-1605342600@dsthoustonalumnae.org
SUMMARY:HAC Youth Programs Virtual Kickoff
DESCRIPTION:via ZOOM \nRegister in advance for this meeting:
URL:https://dsthoustonalumnae.org/event/hac-youth-programs-virtual-kickoff/
END:VEVENT
BEGIN:VEVENT
DTSTART;TZID=America/Chicago:20201107T083000
DTEND;TZID=America/Chicago:20201107T110000
DTSTAMP:20260421T042114
CREATED:20201002T114000Z
LAST-MODIFIED:20201103T110438Z
UID:26129-1604737800-1604746800@dsthoustonalumnae.org
SUMMARY:Chapter Meeting
DESCRIPTION:via Zoom \nRegistration Required (Deltas Only) \nhttp:/bi.tly/HACNovMeet
URL:https://dsthoustonalumnae.org/event/chapter-meeting-13/
END:VEVENT
BEGIN:VEVENT
DTSTART;TZID=America/Chicago:20201105T123000
DTEND;TZID=America/Chicago:20201105T150000
DTSTAMP:20260421T042114
CREATED:20201002T113856Z
LAST-MODIFIED:20201013T191130Z
UID:26127-1604579400-1604588400@dsthoustonalumnae.org
SUMMARY:Executive Board Meeting
DESCRIPTION:Closed Meeting
URL:https://dsthoustonalumnae.org/event/executive-board-meeting-11/
END:VEVENT
BEGIN:VEVENT
DTSTART;TZID=America/Chicago:20201024T040000
DTEND;TZID=America/Chicago:20201024T080000
DTSTAMP:20260421T042114
CREATED:20200930T185214Z
LAST-MODIFIED:20200930T185214Z
UID:26109-1603512000-1603526400@dsthoustonalumnae.org
SUMMARY:Virtual Scholarship Application and the FAFSA
DESCRIPTION:via Zoom \nRegistration Required
URL:https://dsthoustonalumnae.org/event/virtual-scholarship-application-and-the-fafsa/
END:VEVENT
BEGIN:VEVENT
DTSTART;TZID=America/Chicago:20201018T090000
DTEND;TZID=America/Chicago:20201018T110000
DTSTAMP:20260421T042114
CREATED:20200930T185353Z
LAST-MODIFIED:20201013T190018Z
UID:26111-1603011600-1603018800@dsthoustonalumnae.org
SUMMARY:Risk Management Training
DESCRIPTION:For Volunteers with Youth \nvia Zoom \nRegistration Required
URL:https://dsthoustonalumnae.org/event/risk-management-training/
END:VEVENT
BEGIN:VEVENT
DTSTART;TZID=America/Chicago:20201005T130000
DTEND;TZID=America/Chicago:20201005T140000
DTSTAMP:20260421T042114
CREATED:20200930T190611Z
LAST-MODIFIED:20200930T190611Z
UID:26120-1601902800-1601906400@dsthoustonalumnae.org
SUMMARY:A Conversation with the County Clerk
DESCRIPTION:via Zoom \nRegistration Required
URL:https://dsthoustonalumnae.org/event/a-conversation-with-the-county-clerk/
END:VEVENT
BEGIN:VEVENT
DTSTART;TZID=America/Chicago:20201003T093000
DTEND;TZID=America/Chicago:20201003T113000
DTSTAMP:20260421T042114
CREATED:20200930T185838Z
LAST-MODIFIED:20200930T185838Z
UID:26115-1601717400-1601724600@dsthoustonalumnae.org
SUMMARY:Chapter Meeting
DESCRIPTION:via Zoom \nRegistration Required \nDelta’s Only
URL:https://dsthoustonalumnae.org/event/chapter-meeting-12/
END:VEVENT
BEGIN:VEVENT
DTSTART;TZID=America/Chicago:20201003T080000
DTEND;TZID=America/Chicago:20201003T090000
DTSTAMP:20260421T042114
CREATED:20200930T185941Z
LAST-MODIFIED:20200930T185941Z
UID:26117-1601712000-1601715600@dsthoustonalumnae.org
SUMMARY:Risk Management Chapter Orientation
DESCRIPTION:Via Zoom
URL:https://dsthoustonalumnae.org/event/risk-management-chapter-orientation/
END:VEVENT
BEGIN:VEVENT
DTSTART;TZID=America/Chicago:20201001T133000
DTEND;TZID=America/Chicago:20201001T153000
DTSTAMP:20260421T042114
CREATED:20200930T185646Z
LAST-MODIFIED:20200930T185646Z
UID:26113-1601559000-1601566200@dsthoustonalumnae.org
SUMMARY:Executive Board Meeting
DESCRIPTION:via Zoom \nClosed Meeting
URL:https://dsthoustonalumnae.org/event/executive-board-meeting-10/
END:VEVENT
BEGIN:VEVENT
DTSTART;TZID=America/Chicago:20200919T050000
DTEND;TZID=America/Chicago:20200919T080000
DTSTAMP:20260421T042114
CREATED:20200909T095243Z
LAST-MODIFIED:20200909T100023Z
UID:25766-1600491600-1600502400@dsthoustonalumnae.org
SUMMARY:2020 Virtual Campaign Forum
DESCRIPTION:2020 Virtual Campaign Forum \nOpen to the Public \nLive Streaming
URL:https://dsthoustonalumnae.org/event/2020-virtual-campaign-forum/
END:VEVENT
BEGIN:VEVENT
DTSTART;TZID=America/Chicago:20200913T090000
DTEND;TZID=America/Chicago:20200913T103000
DTSTAMP:20260421T042114
CREATED:20200909T093331Z
LAST-MODIFIED:20200909T100617Z
UID:25764-1599987600-1599993000@dsthoustonalumnae.org
SUMMARY:Sisters in the City - Virtual Reclamation Brunch
DESCRIPTION:Sisters in the City – Virtual Reclamation Brunch \nZoom \nRegistration Required \n\nPlease click the link below.\n\n\nhttps://form.jotform.com/202338212686050
URL:https://dsthoustonalumnae.org/event/sisters-in-the-city-virtual-reclamation-brunch/
END:VEVENT
BEGIN:VEVENT
DTSTART;TZID=America/Chicago:20200125T040000
DTEND;TZID=America/Chicago:20200125T080000
DTSTAMP:20260421T042114
CREATED:20200113T010051Z
LAST-MODIFIED:20200113T010051Z
UID:24804-1579924800-1579939200@dsthoustonalumnae.org
SUMMARY:Health and Wellness Blood Drive
DESCRIPTION:ODP\n10:00 am—2:30 pm
URL:https://dsthoustonalumnae.org/event/health-and-wellness-blood-drive/
END:VEVENT
BEGIN:VEVENT
DTSTART;TZID=America/Chicago:20200119T180000
DTEND;TZID=America/Chicago:20200120T173000
DTSTAMP:20260421T042114
CREATED:20200113T010147Z
LAST-MODIFIED:20200113T010147Z
UID:24806-1579456800-1579541400@dsthoustonalumnae.org
SUMMARY:Martin Luther King Holiday
DESCRIPTION:
URL:https://dsthoustonalumnae.org/event/martin-luther-king-holiday/
END:VEVENT
BEGIN:VEVENT
DTSTART;TZID=America/Chicago:20200118T060000
DTEND;TZID=America/Chicago:20200118T083000
DTSTAMP:20260421T042114
CREATED:20200113T005420Z
LAST-MODIFIED:20200113T005420Z
UID:24800-1579327200-1579336200@dsthoustonalumnae.org
SUMMARY:HAC Youth Day
DESCRIPTION:GEMS\, Academy\, EMBODI \n3333 OST
URL:https://dsthoustonalumnae.org/event/hac-youth-day-3/
END:VEVENT
BEGIN:VEVENT
DTSTART;TZID=America/Chicago:20200112T180000
DTEND;TZID=America/Chicago:20200113T173000
DTSTAMP:20260421T042114
CREATED:20200113T004756Z
LAST-MODIFIED:20200113T004853Z
UID:24796-1578852000-1578936600@dsthoustonalumnae.org
SUMMARY:Delta Sigma Theta Sorority\, Inc. Founders Day
DESCRIPTION:
URL:https://dsthoustonalumnae.org/event/delta-sigma-theta-sorority-inc-founders-day/
END:VEVENT
BEGIN:VEVENT
DTSTART;TZID=America/Chicago:20200112T091500
DTEND;TZID=America/Chicago:20200112T110000
DTSTAMP:20260421T042114
CREATED:20200113T005659Z
LAST-MODIFIED:20200113T005659Z
UID:24802-1578820500-1578826800@dsthoustonalumnae.org
SUMMARY:Red Carpet Event - Just Mercy
DESCRIPTION:Arts and Letters
URL:https://dsthoustonalumnae.org/event/red-carpet-event-just-mercy/
CATEGORIES:Arts & Letters
END:VEVENT
BEGIN:VEVENT
DTSTART;TZID=America/Chicago:20200111T070000
DTEND;TZID=America/Chicago:20200111T100000
DTSTAMP:20260421T042114
CREATED:20200113T005215Z
LAST-MODIFIED:20200113T005215Z
UID:24798-1578726000-1578736800@dsthoustonalumnae.org
SUMMARY:HAC Founders Day Observance/Reclamation
DESCRIPTION:Chucks & Pearls \nOpen to all sorors \nKaraoke \nOakton Place \n5011 Griggs
URL:https://dsthoustonalumnae.org/event/hac-founders-day-observance-reclamation/
END:VEVENT
BEGIN:VEVENT
DTSTART;TZID=America/Chicago:20200104T083000
DTEND;TZID=America/Chicago:20200104T103000
DTSTAMP:20260421T042114
CREATED:20200113T004434Z
LAST-MODIFIED:20200113T004434Z
UID:24791-1578126600-1578133800@dsthoustonalumnae.org
SUMMARY:Chapter Meeting
DESCRIPTION:Peck Elementary \n5001 MLK Blvd.
URL:https://dsthoustonalumnae.org/event/chapter-meeting-11/
END:VEVENT
BEGIN:VEVENT
DTSTART;TZID=America/Chicago:20200102T123000
DTEND;TZID=America/Chicago:20200102T143000
DTSTAMP:20260421T042114
CREATED:20200113T004637Z
LAST-MODIFIED:20200113T004637Z
UID:24794-1577968200-1577975400@dsthoustonalumnae.org
SUMMARY:Executive Board Meeting
DESCRIPTION:One Delta Plaza \n3333 OST \n 
URL:https://dsthoustonalumnae.org/event/executive-board-meeting-9/
END:VEVENT
BEGIN:VEVENT
DTSTART;TZID=America/Chicago:20191224T180000
DTEND;TZID=America/Chicago:20191224T180000
DTSTAMP:20260421T042114
CREATED:20191205T024207Z
LAST-MODIFIED:20191205T024207Z
UID:24759-1577210400-1577210400@dsthoustonalumnae.org
SUMMARY:Merry Christmas
DESCRIPTION:
URL:https://dsthoustonalumnae.org/event/merry-christmas/
END:VEVENT
BEGIN:VEVENT
DTSTART;TZID=America/Chicago:20191214T060000
DTEND;TZID=America/Chicago:20191214T083000
DTSTAMP:20260421T042114
CREATED:20191205T024417Z
LAST-MODIFIED:20191205T031136Z
UID:24761-1576303200-1576312200@dsthoustonalumnae.org
SUMMARY:Youth Day
DESCRIPTION:ODP
URL:https://dsthoustonalumnae.org/event/youth-day/
END:VEVENT
BEGIN:VEVENT
DTSTART;TZID=America/Chicago:20191213T180000
DTEND;TZID=America/Chicago:20191213T180000
DTSTAMP:20260421T042114
CREATED:20191205T024128Z
LAST-MODIFIED:20191205T024128Z
UID:24757-1576260000-1576260000@dsthoustonalumnae.org
SUMMARY:World Aids Day Activity
DESCRIPTION:Time – TBA
URL:https://dsthoustonalumnae.org/event/world-aids-day-activity/
END:VEVENT
BEGIN:VEVENT
DTSTART;TZID=America/Chicago:20191207T083000
DTEND;TZID=America/Chicago:20191207T103000
DTSTAMP:20260421T042114
CREATED:20191205T023915Z
LAST-MODIFIED:20191205T023915Z
UID:24755-1575707400-1575714600@dsthoustonalumnae.org
SUMMARY:Chapter Meeting
DESCRIPTION:Peck Elementary \n5001 Martin Luther King Blvd
URL:https://dsthoustonalumnae.org/event/chapter-meeting-10/
END:VEVENT
BEGIN:VEVENT
DTSTART;TZID=America/Chicago:20191205T123000
DTEND;TZID=America/Chicago:20191205T143000
DTSTAMP:20260421T042114
CREATED:20191205T023827Z
LAST-MODIFIED:20191205T023827Z
UID:24753-1575549000-1575556200@dsthoustonalumnae.org
SUMMARY:Executive Board Meeting
DESCRIPTION:ODP
URL:https://dsthoustonalumnae.org/event/executive-board-meeting-8/
END:VEVENT
BEGIN:VEVENT
DTSTART;TZID=America/Chicago:20191201T070000
DTEND;TZID=America/Chicago:20191201T130000
DTSTAMP:20260421T042114
CREATED:20190730T005752Z
LAST-MODIFIED:20190730T005752Z
UID:23657-1575183600-1575205200@dsthoustonalumnae.org
SUMMARY:2019 Jazz Soiree
DESCRIPTION:Tickets may be purchased online using EventBrite!
URL:https://dsthoustonalumnae.org/event/2019-jazz-soiree/
END:VEVENT
BEGIN:VEVENT
DTSTART;TZID=America/Chicago:20191121T110000
DTEND;TZID=America/Chicago:20191121T140000
DTSTAMP:20260421T042114
CREATED:20190815T101217Z
LAST-MODIFIED:20190906T010933Z
UID:23975-1574334000-1574344800@dsthoustonalumnae.org
SUMMARY:Jazz Soiree Ticket Distribution
DESCRIPTION:For online tickets\, visit Eventbrite. \nClick here for Sponsorship Opportunities 2019 Jazz Soiree Sponsor & Donation Letter
URL:https://dsthoustonalumnae.org/event/jazz-soiree-ticket-distribution-2-2-2/
CATEGORIES:Special Events
END:VEVENT
BEGIN:VEVENT
DTSTART;TZID=America/Chicago:20191114T110000
DTEND;TZID=America/Chicago:20191114T140000
DTSTAMP:20260421T042114
CREATED:20190815T101107Z
LAST-MODIFIED:20190906T012246Z
UID:23973-1573729200-1573740000@dsthoustonalumnae.org
SUMMARY:Jazz Soiree Ticket Distribution
DESCRIPTION:For online tickets\, visit Eventbrite. \nClick here for Sponsorship Opportunities 2019 Jazz Soiree Sponsor & Donation Letter
URL:https://dsthoustonalumnae.org/event/jazz-soiree-ticket-distribution-2-2/
CATEGORIES:Special Events
END:VEVENT
BEGIN:VEVENT
DTSTART;TZID=America/Chicago:20191103T090000
DTEND;TZID=America/Chicago:20191103T120000
DTSTAMP:20260421T042114
CREATED:20191025T084507Z
LAST-MODIFIED:20191025T084507Z
UID:24742-1572771600-1572782400@dsthoustonalumnae.org
SUMMARY:Red Carpet Event - Movie: Harriet
DESCRIPTION:Red Carpet Event – Movie: Harriet \nAMC Studio 30 \n2949 Dunvale \n3:00 PM Photos \n3:30 Movie
URL:https://dsthoustonalumnae.org/event/red-carpet-event-movie-harriet/
END:VEVENT
BEGIN:VEVENT
DTSTART;TZID=America/Chicago:20191102T093000
DTEND;TZID=America/Chicago:20191102T113000
DTSTAMP:20260421T042114
CREATED:20191025T084224Z
LAST-MODIFIED:20191025T084224Z
UID:24740-1572687000-1572694200@dsthoustonalumnae.org
SUMMARY:Chapter Meeting
DESCRIPTION:Chapter Meeting \n2:30 – 4:30 pm \nPeck Elementary \n5001 Martin Luther King Blvd.
URL:https://dsthoustonalumnae.org/event/chapter-meeting-9/
END:VEVENT
END:VCALENDAR