BEGIN:VCALENDAR
VERSION:2.0
PRODID:-//DST Houston Alumnae - ECPv6.15.11//NONSGML v1.0//EN
CALSCALE:GREGORIAN
METHOD:PUBLISH
X-ORIGINAL-URL:https://dsthoustonalumnae.org
X-WR-CALDESC:Events for DST Houston Alumnae
REFRESH-INTERVAL;VALUE=DURATION:PT1H
X-Robots-Tag:noindex
X-PUBLISHED-TTL:PT1H
BEGIN:VTIMEZONE
TZID:America/Chicago
BEGIN:DAYLIGHT
TZOFFSETFROM:-0600
TZOFFSETTO:-0500
TZNAME:CDT
DTSTART:20220313T080000
END:DAYLIGHT
BEGIN:STANDARD
TZOFFSETFROM:-0500
TZOFFSETTO:-0600
TZNAME:CST
DTSTART:20221106T070000
END:STANDARD
BEGIN:DAYLIGHT
TZOFFSETFROM:-0600
TZOFFSETTO:-0500
TZNAME:CDT
DTSTART:20230312T080000
END:DAYLIGHT
BEGIN:STANDARD
TZOFFSETFROM:-0500
TZOFFSETTO:-0600
TZNAME:CST
DTSTART:20231105T070000
END:STANDARD
BEGIN:DAYLIGHT
TZOFFSETFROM:-0600
TZOFFSETTO:-0500
TZNAME:CDT
DTSTART:20240310T080000
END:DAYLIGHT
BEGIN:STANDARD
TZOFFSETFROM:-0500
TZOFFSETTO:-0600
TZNAME:CST
DTSTART:20241103T070000
END:STANDARD
END:VTIMEZONE
BEGIN:VEVENT
DTSTART;TZID=America/Chicago:20230913T190000
DTEND;TZID=America/Chicago:20230913T203000
DTSTAMP:20260422T180547
CREATED:20230801T015253Z
LAST-MODIFIED:20230801T015253Z
UID:35194-1694631600-1694637000@dsthoustonalumnae.org
SUMMARY:Financial Empowerment
DESCRIPTION:Financial Empowerment \nCommittee Meeting \nZoom – Link Coming Soon
URL:https://dsthoustonalumnae.org/event/financial-empowerment-3/
END:VEVENT
BEGIN:VEVENT
DTSTART;TZID=America/Chicago:20231223T150000
DTEND;TZID=America/Chicago:20231223T190000
DTSTAMP:20260422T180547
CREATED:20231212T021617Z
LAST-MODIFIED:20231212T021617Z
UID:38229-1703343600-1703358000@dsthoustonalumnae.org
SUMMARY:Red Carpet Event - The Color Purple
DESCRIPTION:Movie: The Color Purple \nDecember 23rd\n3:00 pm \nRegal Edwards Marq’E\n7600 Katy Fwy.\nHouston\, TX 77024
URL:https://dsthoustonalumnae.org/event/red-carpet-event-the-color-purple/
END:VEVENT
END:VCALENDAR