BEGIN:VCALENDAR
VERSION:2.0
PRODID:-//DST Houston Alumnae - ECPv6.15.11//NONSGML v1.0//EN
CALSCALE:GREGORIAN
METHOD:PUBLISH
X-WR-CALNAME:DST Houston Alumnae
X-ORIGINAL-URL:https://dsthoustonalumnae.org
X-WR-CALDESC:Events for DST Houston Alumnae
REFRESH-INTERVAL;VALUE=DURATION:PT1H
X-Robots-Tag:noindex
X-PUBLISHED-TTL:PT1H
BEGIN:VTIMEZONE
TZID:America/Chicago
BEGIN:DAYLIGHT
TZOFFSETFROM:-0600
TZOFFSETTO:-0500
TZNAME:CDT
DTSTART:20170312T080000
END:DAYLIGHT
BEGIN:STANDARD
TZOFFSETFROM:-0500
TZOFFSETTO:-0600
TZNAME:CST
DTSTART:20171105T070000
END:STANDARD
BEGIN:DAYLIGHT
TZOFFSETFROM:-0600
TZOFFSETTO:-0500
TZNAME:CDT
DTSTART:20180311T080000
END:DAYLIGHT
BEGIN:STANDARD
TZOFFSETFROM:-0500
TZOFFSETTO:-0600
TZNAME:CST
DTSTART:20181104T070000
END:STANDARD
BEGIN:DAYLIGHT
TZOFFSETFROM:-0600
TZOFFSETTO:-0500
TZNAME:CDT
DTSTART:20190310T080000
END:DAYLIGHT
BEGIN:STANDARD
TZOFFSETFROM:-0500
TZOFFSETTO:-0600
TZNAME:CST
DTSTART:20191103T070000
END:STANDARD
BEGIN:DAYLIGHT
TZOFFSETFROM:-0600
TZOFFSETTO:-0500
TZNAME:CDT
DTSTART:20200308T080000
END:DAYLIGHT
BEGIN:STANDARD
TZOFFSETFROM:-0500
TZOFFSETTO:-0600
TZNAME:CST
DTSTART:20201101T070000
END:STANDARD
END:VTIMEZONE
BEGIN:VEVENT
DTSTART;TZID=America/Chicago:20190107T123000
DTEND;TZID=America/Chicago:20190107T150000
DTSTAMP:20260423T043016
CREATED:20190102T051500Z
LAST-MODIFIED:20190105T105847Z
UID:4659-1546864200-1546873200@dsthoustonalumnae.org
SUMMARY:Heritage & Archives Committee Meeting
DESCRIPTION:One Delta Plaza
URL:https://dsthoustonalumnae.org/event/heritage-archives-committee-meeting-2/
END:VEVENT
BEGIN:VEVENT
DTSTART;TZID=America/Chicago:20190107T123000
DTEND;TZID=America/Chicago:20190107T140000
DTSTAMP:20260423T043016
CREATED:20190105T105703Z
LAST-MODIFIED:20190105T105703Z
UID:4766-1546864200-1546869600@dsthoustonalumnae.org
SUMMARY:May Week Committee Meeting
DESCRIPTION:One Delta Plaza
URL:https://dsthoustonalumnae.org/event/may-week-committee-meeting/
END:VEVENT
BEGIN:VEVENT
DTSTART;TZID=America/Chicago:20190107T123000
DTEND;TZID=America/Chicago:20190107T140000
DTSTAMP:20260423T043016
CREATED:20190102T050403Z
LAST-MODIFIED:20190102T050403Z
UID:4647-1546864200-1546869600@dsthoustonalumnae.org
SUMMARY:Membership Services Committee Meeting
DESCRIPTION:One Delta Plaza
URL:https://dsthoustonalumnae.org/event/membership-services-committee-meeting-3/
END:VEVENT
BEGIN:VEVENT
DTSTART;TZID=America/Chicago:20190105T083000
DTEND;TZID=America/Chicago:20190105T103000
DTSTAMP:20260423T043016
CREATED:20190102T050037Z
LAST-MODIFIED:20190102T050037Z
UID:4643-1546677000-1546684200@dsthoustonalumnae.org
SUMMARY:Chapter Meeting
DESCRIPTION:Peck Elementary \n5001 Martin Luther King Blvd. \n 
URL:https://dsthoustonalumnae.org/event/chapter-meeting-4/
END:VEVENT
BEGIN:VEVENT
DTSTART;TZID=America/Chicago:20190103T123000
DTEND;TZID=America/Chicago:20190103T143000
DTSTAMP:20260423T043016
CREATED:20190102T045923Z
LAST-MODIFIED:20190102T045923Z
UID:4641-1546518600-1546525800@dsthoustonalumnae.org
SUMMARY:Executive Board Meeting
DESCRIPTION:One Delta Plaza
URL:https://dsthoustonalumnae.org/event/executive-board-meeting-5/
END:VEVENT
BEGIN:VEVENT
DTSTART;TZID=America/Chicago:20181202T090000
DTEND;TZID=America/Chicago:20181202T130000
DTSTAMP:20260423T043016
CREATED:20180831T004811Z
LAST-MODIFIED:20180908T102855Z
UID:4070-1543741200-1543755600@dsthoustonalumnae.org
SUMMARY:Harlem Renaissance...All That Jazz - 17th Annual Scholarship JAZZ SOIREE Fundraiser
DESCRIPTION:
URL:https://dsthoustonalumnae.org/event/jazz-soiree/
ORGANIZER;CN="HAC Special Events":MAILTO:specialevents@dsthoustonalumnae.org
END:VEVENT
BEGIN:VEVENT
DTSTART;TZID=America/Chicago:20181201T083000
DTEND;TZID=America/Chicago:20181201T103000
DTSTAMP:20260423T043016
CREATED:20181107T223847Z
LAST-MODIFIED:20181107T223847Z
UID:4527-1543653000-1543660200@dsthoustonalumnae.org
SUMMARY:Chapter Meeting
DESCRIPTION:Peck Elementary \n5001 MLK Blvd.
URL:https://dsthoustonalumnae.org/event/chapter-meeting-3/
END:VEVENT
BEGIN:VEVENT
DTSTART;TZID=America/Chicago:20181129T123000
DTEND;TZID=America/Chicago:20181129T143000
DTSTAMP:20260423T043016
CREATED:20181107T223743Z
LAST-MODIFIED:20181107T223743Z
UID:4525-1543494600-1543501800@dsthoustonalumnae.org
SUMMARY:Executive Board Meeting
DESCRIPTION:One Delta Plaza
URL:https://dsthoustonalumnae.org/event/executive-board-meeting-4/
END:VEVENT
BEGIN:VEVENT
DTSTART;TZID=America/Chicago:20181127T180000
DTEND;TZID=America/Chicago:20181127T180000
DTSTAMP:20260423T043016
CREATED:20181107T223649Z
LAST-MODIFIED:20181107T223649Z
UID:4523-1543341600-1543341600@dsthoustonalumnae.org
SUMMARY:Courtesy Committee Meeting
DESCRIPTION:Conference Call
URL:https://dsthoustonalumnae.org/event/courtesy-committee-meeting/
END:VEVENT
BEGIN:VEVENT
DTSTART;TZID=America/Chicago:20181126T180000
DTEND;TZID=America/Chicago:20181126T180000
DTSTAMP:20260423T043016
CREATED:20181107T223530Z
LAST-MODIFIED:20181107T223530Z
UID:4521-1543255200-1543255200@dsthoustonalumnae.org
SUMMARY:PP&D- Risk Management Training
DESCRIPTION:TBA
URL:https://dsthoustonalumnae.org/event/ppd-risk-management-training/
END:VEVENT
BEGIN:VEVENT
DTSTART;TZID=America/Chicago:20181121T123000
DTEND;TZID=America/Chicago:20181121T143000
DTSTAMP:20260423T043016
CREATED:20181107T223407Z
LAST-MODIFIED:20181107T223407Z
UID:4519-1542803400-1542810600@dsthoustonalumnae.org
SUMMARY:Finance Committee Meeting
DESCRIPTION:One Delta Plaza
URL:https://dsthoustonalumnae.org/event/finance-committee-meeting/
END:VEVENT
BEGIN:VEVENT
DTSTART;TZID=America/Chicago:20181120T050000
DTEND;TZID=America/Chicago:20181120T063000
DTSTAMP:20260423T043016
CREATED:20181107T223252Z
LAST-MODIFIED:20181107T223311Z
UID:4516-1542690000-1542695400@dsthoustonalumnae.org
SUMMARY:Delta Daytimers Meeting
DESCRIPTION:Political Awareness \nOne Delta Plaza
URL:https://dsthoustonalumnae.org/event/delta-daytimers-committee-meeting/
END:VEVENT
BEGIN:VEVENT
DTSTART;TZID=America/Chicago:20181119T150000
DTEND;TZID=America/Chicago:20181119T160000
DTSTAMP:20260423T043016
CREATED:20181107T223132Z
LAST-MODIFIED:20181107T223132Z
UID:4514-1542639600-1542643200@dsthoustonalumnae.org
SUMMARY:Data Resource Network - Committee Meeting
DESCRIPTION:Conference Call
URL:https://dsthoustonalumnae.org/event/data-resource-network-committee-meeting/
END:VEVENT
BEGIN:VEVENT
DTSTART;TZID=America/Chicago:20181119T120000
DTEND;TZID=America/Chicago:20181119T140000
DTSTAMP:20260423T043016
CREATED:20181107T223028Z
LAST-MODIFIED:20181107T223028Z
UID:4512-1542628800-1542636000@dsthoustonalumnae.org
SUMMARY:Special Events - Jazz Soiree Committee Meeting
DESCRIPTION:One Delta Plaza
URL:https://dsthoustonalumnae.org/event/special-events-jazz-soiree-committee-meeting-3/
END:VEVENT
BEGIN:VEVENT
DTSTART;TZID=America/Chicago:20181117T180000
DTEND;TZID=America/Chicago:20181117T180000
DTSTAMP:20260423T043016
CREATED:20181107T222913Z
LAST-MODIFIED:20181107T222913Z
UID:4510-1542477600-1542477600@dsthoustonalumnae.org
SUMMARY:Membership Services - Reclamation Sunday
DESCRIPTION:TBA
URL:https://dsthoustonalumnae.org/event/membership-services-reclamation-sunday/
END:VEVENT
BEGIN:VEVENT
DTSTART;TZID=America/Chicago:20181114T130000
DTEND;TZID=America/Chicago:20181114T143000
DTSTAMP:20260423T043016
CREATED:20181107T222750Z
LAST-MODIFIED:20181107T222750Z
UID:4508-1542200400-1542205800@dsthoustonalumnae.org
SUMMARY:Conference & Convention Planning Committee Meeting
DESCRIPTION:One Delta Plaza
URL:https://dsthoustonalumnae.org/event/conference-convention-planning-committee-meeting/
END:VEVENT
BEGIN:VEVENT
DTSTART;TZID=America/Chicago:20181114T123000
DTEND;TZID=America/Chicago:20181114T140000
DTSTAMP:20260423T043016
CREATED:20181107T222642Z
LAST-MODIFIED:20181107T222642Z
UID:4506-1542198600-1542204000@dsthoustonalumnae.org
SUMMARY:Protocol & Traditions Committee Meeting
DESCRIPTION:One Delta Plaza
URL:https://dsthoustonalumnae.org/event/protocol-traditions-committee-meeting/
END:VEVENT
BEGIN:VEVENT
DTSTART;TZID=America/Chicago:20181113T123000
DTEND;TZID=America/Chicago:20181113T140000
DTSTAMP:20260423T043016
CREATED:20181107T222540Z
LAST-MODIFIED:20181107T222540Z
UID:4504-1542112200-1542117600@dsthoustonalumnae.org
SUMMARY:Joint Founders Day Meeting
DESCRIPTION:One Delta Plaza
URL:https://dsthoustonalumnae.org/event/joint-founders-day-meeting/
END:VEVENT
BEGIN:VEVENT
DTSTART;TZID=America/Chicago:20181112T123000
DTEND;TZID=America/Chicago:20181112T143000
DTSTAMP:20260423T043016
CREATED:20181107T222436Z
LAST-MODIFIED:20181107T222436Z
UID:4502-1542025800-1542033000@dsthoustonalumnae.org
SUMMARY:Heritage & Archives Committee Meeting
DESCRIPTION:One Delta Plaza
URL:https://dsthoustonalumnae.org/event/heritage-archives-committee-meeting/
END:VEVENT
BEGIN:VEVENT
DTSTART;TZID=America/Chicago:20181112T120000
DTEND;TZID=America/Chicago:20181112T140000
DTSTAMP:20260423T043016
CREATED:20181107T222321Z
LAST-MODIFIED:20181107T222321Z
UID:4500-1542024000-1542031200@dsthoustonalumnae.org
SUMMARY:Special Events - Jazz Soiree Committee Meeting
DESCRIPTION:Collections & Committee Meeting \nOne Delta Plaza
URL:https://dsthoustonalumnae.org/event/special-events-jazz-soiree-committee-meeting-2/
END:VEVENT
BEGIN:VEVENT
DTSTART;TZID=America/Chicago:20181112T050000
DTEND;TZID=America/Chicago:20181112T063000
DTSTAMP:20260423T043016
CREATED:20181107T222134Z
LAST-MODIFIED:20181107T222134Z
UID:4498-1541998800-1542004200@dsthoustonalumnae.org
SUMMARY:Sisters Keeper Committee Meeting
DESCRIPTION:One Delta Plaza
URL:https://dsthoustonalumnae.org/event/sisters-keeper-committee-meeting/
END:VEVENT
BEGIN:VEVENT
DTSTART;TZID=America/Chicago:20181110T060000
DTEND;TZID=America/Chicago:20181110T083000
DTSTAMP:20260423T043016
CREATED:20181107T221913Z
LAST-MODIFIED:20181107T221913Z
UID:4496-1541829600-1541838600@dsthoustonalumnae.org
SUMMARY:Youth Day at HAC
DESCRIPTION:Delta GEMS \nDelta Academy \nEMBODI
URL:https://dsthoustonalumnae.org/event/youth-day-at-hac/
END:VEVENT
BEGIN:VEVENT
DTSTART;TZID=America/Chicago:20181110T040000
DTEND;TZID=America/Chicago:20181110T050000
DTSTAMP:20260423T043016
CREATED:20181107T221450Z
LAST-MODIFIED:20181107T221450Z
UID:4492-1541822400-1541826000@dsthoustonalumnae.org
SUMMARY:Financial Empowerment
DESCRIPTION:One Delta Plaza
URL:https://dsthoustonalumnae.org/event/financial-empowerment-2/
END:VEVENT
BEGIN:VEVENT
DTSTART;TZID=America/Chicago:20181110T020000
DTEND;TZID=America/Chicago:20181110T060000
DTSTAMP:20260423T043016
CREATED:20181107T221801Z
LAST-MODIFIED:20181107T221801Z
UID:4494-1541815200-1541829600@dsthoustonalumnae.org
SUMMARY:Local Projects - Service Project
DESCRIPTION:Houston Food Bank \n535 Portwall St.\nHouston\, TX 77029\n713.223.3700
URL:https://dsthoustonalumnae.org/event/local-projects-service-project/
END:VEVENT
BEGIN:VEVENT
DTSTART;TZID=America/Chicago:20181109T130000
DTEND;TZID=America/Chicago:20181109T143000
DTSTAMP:20260423T043016
CREATED:20181107T221339Z
LAST-MODIFIED:20181107T221339Z
UID:4490-1541768400-1541773800@dsthoustonalumnae.org
SUMMARY:Financial Empowerment
DESCRIPTION:One Delta Plaza
URL:https://dsthoustonalumnae.org/event/financial-empowerment/
END:VEVENT
BEGIN:VEVENT
DTSTART;TZID=America/Chicago:20181108T123000
DTEND;TZID=America/Chicago:20181108T140000
DTSTAMP:20260423T043016
CREATED:20181107T221231Z
LAST-MODIFIED:20181107T221231Z
UID:4488-1541680200-1541685600@dsthoustonalumnae.org
SUMMARY:Scholarship Committee Meeting
DESCRIPTION:Conference Call
URL:https://dsthoustonalumnae.org/event/scholarship-committee-meeting/
END:VEVENT
BEGIN:VEVENT
DTSTART;TZID=America/Chicago:20181108T123000
DTEND;TZID=America/Chicago:20181108T133000
DTSTAMP:20260423T043016
CREATED:20181107T221139Z
LAST-MODIFIED:20181107T221139Z
UID:4486-1541680200-1541683800@dsthoustonalumnae.org
SUMMARY:Local Projects Committee Meeting
DESCRIPTION:Conference Call
URL:https://dsthoustonalumnae.org/event/local-projects-committee-meeting-2/
END:VEVENT
BEGIN:VEVENT
DTSTART;TZID=America/Chicago:20181107T143000
DTEND;TZID=America/Chicago:20181107T153000
DTSTAMP:20260423T043016
CREATED:20181107T221044Z
LAST-MODIFIED:20181107T221044Z
UID:4484-1541601000-1541604600@dsthoustonalumnae.org
SUMMARY:LEAD Mentoring Committee Meeting
DESCRIPTION:Conference Call
URL:https://dsthoustonalumnae.org/event/lead-mentoring-committee-meeting/
END:VEVENT
BEGIN:VEVENT
DTSTART;TZID=America/Chicago:20181106T143000
DTEND;TZID=America/Chicago:20181106T153000
DTSTAMP:20260423T043016
CREATED:20181107T220735Z
LAST-MODIFIED:20181107T220735Z
UID:4478-1541514600-1541518200@dsthoustonalumnae.org
SUMMARY:Delta Academy Committee Meeting
DESCRIPTION:Conference Call
URL:https://dsthoustonalumnae.org/event/delta-academy-committee-meeting-2/
END:VEVENT
BEGIN:VEVENT
DTSTART;TZID=America/Chicago:20181105T140000
DTEND;TZID=America/Chicago:20181105T150000
DTSTAMP:20260423T043016
CREATED:20181107T220649Z
LAST-MODIFIED:20181107T220649Z
UID:4476-1541426400-1541430000@dsthoustonalumnae.org
SUMMARY:GEMS Committee Meeting
DESCRIPTION:Conference Call
URL:https://dsthoustonalumnae.org/event/gems-committee-meeting/
END:VEVENT
END:VCALENDAR