BEGIN:VCALENDAR
VERSION:2.0
PRODID:-//DST Houston Alumnae - ECPv6.15.11//NONSGML v1.0//EN
CALSCALE:GREGORIAN
METHOD:PUBLISH
X-ORIGINAL-URL:https://dsthoustonalumnae.org
X-WR-CALDESC:Events for DST Houston Alumnae
REFRESH-INTERVAL;VALUE=DURATION:PT1H
X-Robots-Tag:noindex
X-PUBLISHED-TTL:PT1H
BEGIN:VTIMEZONE
TZID:America/Chicago
BEGIN:DAYLIGHT
TZOFFSETFROM:-0600
TZOFFSETTO:-0500
TZNAME:CDT
DTSTART:20180311T080000
END:DAYLIGHT
BEGIN:STANDARD
TZOFFSETFROM:-0500
TZOFFSETTO:-0600
TZNAME:CST
DTSTART:20181104T070000
END:STANDARD
BEGIN:DAYLIGHT
TZOFFSETFROM:-0600
TZOFFSETTO:-0500
TZNAME:CDT
DTSTART:20190310T080000
END:DAYLIGHT
BEGIN:STANDARD
TZOFFSETFROM:-0500
TZOFFSETTO:-0600
TZNAME:CST
DTSTART:20191103T070000
END:STANDARD
BEGIN:DAYLIGHT
TZOFFSETFROM:-0600
TZOFFSETTO:-0500
TZNAME:CDT
DTSTART:20200308T080000
END:DAYLIGHT
BEGIN:STANDARD
TZOFFSETFROM:-0500
TZOFFSETTO:-0600
TZNAME:CST
DTSTART:20201101T070000
END:STANDARD
END:VTIMEZONE
BEGIN:VEVENT
DTSTART;TZID=America/Chicago:20190907T093000
DTEND;TZID=America/Chicago:20190907T113000
DTSTAMP:20260423T010324
CREATED:20190730T185546Z
LAST-MODIFIED:20190730T185546Z
UID:23782-1567848600-1567855800@dsthoustonalumnae.org
SUMMARY:Chapter Meeting
DESCRIPTION:Peck Elementary \n5001 Martin Luther King Jr. Blvd\, Houston\, TX  77021
URL:https://dsthoustonalumnae.org/event/chapter-meeting-8/
END:VEVENT
BEGIN:VEVENT
DTSTART;TZID=America/Chicago:20190907T093000
DTEND;TZID=America/Chicago:20190907T113000
DTSTAMP:20260423T010324
CREATED:20190907T183022Z
LAST-MODIFIED:20190730T184603Z
UID:23779-1567848600-1567855800@dsthoustonalumnae.org
SUMMARY:Chapter Meeting
DESCRIPTION:Peck Elementary \n5001 Martin Luther King
URL:https://dsthoustonalumnae.org/event/chapter-meeting-7/
END:VEVENT
BEGIN:VEVENT
DTSTART;TZID=America/Chicago:20190912T120000
DTEND;TZID=America/Chicago:20190912T153000
DTSTAMP:20260423T010324
CREATED:20190904T101621Z
LAST-MODIFIED:20190904T200609Z
UID:24164-1568289600-1568302200@dsthoustonalumnae.org
SUMMARY:HISD Board Meeting
DESCRIPTION:
URL:https://dsthoustonalumnae.org/event/hisd-board-meeting/
CATEGORIES:Political Awareness & Involvement
END:VEVENT
BEGIN:VEVENT
DTSTART;TZID=America/Chicago:20190919T120000
DTEND;TZID=America/Chicago:20190919T150000
DTSTAMP:20260423T010324
CREATED:20190815T100112Z
LAST-MODIFIED:20190815T100112Z
UID:23967-1568894400-1568905200@dsthoustonalumnae.org
SUMMARY:Jazz Soiree Ticket Distribution
DESCRIPTION:For online tickets\, visit Eventbrite. \nClick here for Sponsorship Opportunities 2019 Jazz Soiree Sponsor & Donation Letter
URL:https://dsthoustonalumnae.org/event/jazz-soiree-ticket-distribution/
END:VEVENT
BEGIN:VEVENT
DTSTART;TZID=America/Chicago:20190921T053000
DTEND;TZID=America/Chicago:20190921T093000
DTSTAMP:20260423T010324
CREATED:20190915T184127Z
LAST-MODIFIED:20190915T184127Z
UID:24569-1569043800-1569058200@dsthoustonalumnae.org
SUMMARY:Youth Day at HAC
DESCRIPTION:
URL:https://dsthoustonalumnae.org/event/youth-day-at-hac-2/
END:VEVENT
BEGIN:VEVENT
DTSTART;VALUE=DATE:20190923
DTEND;VALUE=DATE:20190925
DTSTAMP:20260423T010324
CREATED:20190905T094259Z
LAST-MODIFIED:20190905T094329Z
UID:24188-1569265200-1569351599@dsthoustonalumnae.org
SUMMARY:National Voter Registration Day
DESCRIPTION:
URL:https://dsthoustonalumnae.org/event/national-voter-registration-day/
CATEGORIES:Social Action
END:VEVENT
BEGIN:VEVENT
DTSTART;VALUE=DATE:20190927
DTEND;VALUE=DATE:20190929
DTSTAMP:20260423T010324
CREATED:20190905T094938Z
LAST-MODIFIED:20190905T095043Z
UID:24192-1569610800-1569697199@dsthoustonalumnae.org
SUMMARY:CENSUS 2020: Census Red Army Day
DESCRIPTION:
URL:https://dsthoustonalumnae.org/event/census-2020-census-red-army-day/
CATEGORIES:Political Awareness & Involvement,Social Action
END:VEVENT
BEGIN:VEVENT
DTSTART;TZID=America/Chicago:20190928T040000
DTEND;TZID=America/Chicago:20190928T060000
DTSTAMP:20260423T010324
CREATED:20190905T094702Z
LAST-MODIFIED:20190905T094702Z
UID:24190-1569643200-1569650400@dsthoustonalumnae.org
SUMMARY:Prostate Cancer Awareness
DESCRIPTION:
URL:https://dsthoustonalumnae.org/event/prostate-cancer-awareness/
CATEGORIES:Physical & Mental Health
END:VEVENT
END:VCALENDAR