BEGIN:VCALENDAR
VERSION:2.0
PRODID:-//DST Houston Alumnae - ECPv6.15.11//NONSGML v1.0//EN
CALSCALE:GREGORIAN
METHOD:PUBLISH
X-WR-CALNAME:DST Houston Alumnae
X-ORIGINAL-URL:https://dsthoustonalumnae.org
X-WR-CALDESC:Events for DST Houston Alumnae
REFRESH-INTERVAL;VALUE=DURATION:PT1H
X-Robots-Tag:noindex
X-PUBLISHED-TTL:PT1H
BEGIN:VTIMEZONE
TZID:America/Chicago
BEGIN:DAYLIGHT
TZOFFSETFROM:-0600
TZOFFSETTO:-0500
TZNAME:CDT
DTSTART:20180311T080000
END:DAYLIGHT
BEGIN:STANDARD
TZOFFSETFROM:-0500
TZOFFSETTO:-0600
TZNAME:CST
DTSTART:20181104T070000
END:STANDARD
BEGIN:DAYLIGHT
TZOFFSETFROM:-0600
TZOFFSETTO:-0500
TZNAME:CDT
DTSTART:20190310T080000
END:DAYLIGHT
BEGIN:STANDARD
TZOFFSETFROM:-0500
TZOFFSETTO:-0600
TZNAME:CST
DTSTART:20191103T070000
END:STANDARD
BEGIN:DAYLIGHT
TZOFFSETFROM:-0600
TZOFFSETTO:-0500
TZNAME:CDT
DTSTART:20200308T080000
END:DAYLIGHT
BEGIN:STANDARD
TZOFFSETFROM:-0500
TZOFFSETTO:-0600
TZNAME:CST
DTSTART:20201101T070000
END:STANDARD
END:VTIMEZONE
BEGIN:VEVENT
DTSTART;TZID=America/Chicago:20191005T093000
DTEND;TZID=America/Chicago:20191005T093000
DTSTAMP:20260423T022347
CREATED:20191004T201029Z
LAST-MODIFIED:20191004T201352Z
UID:24699-1570267800-1570267800@dsthoustonalumnae.org
SUMMARY:Chapter Meeting
DESCRIPTION:Peck Elementary \n5001 Martin Luther King Jr. Blvd\, Houston\, TX  77021
URL:https://dsthoustonalumnae.org/event/chapter-meeting-8-2/
END:VEVENT
BEGIN:VEVENT
DTSTART;TZID=America/Chicago:20191013T070000
DTEND;TZID=America/Chicago:20191013T093000
DTSTAMP:20260423T022347
CREATED:20191025T082448Z
LAST-MODIFIED:20191025T082448Z
UID:24731-1570950000-1570959000@dsthoustonalumnae.org
SUMMARY:Cuney Homes Walk - Census
DESCRIPTION:Cuney Homes Walk – Census
URL:https://dsthoustonalumnae.org/event/cuney-homes-walk-census/
CATEGORIES:Social Action
END:VEVENT
BEGIN:VEVENT
DTSTART;TZID=America/Chicago:20191015T133000
DTEND;TZID=America/Chicago:20191015T153000
DTSTAMP:20260423T022347
CREATED:20191025T082619Z
LAST-MODIFIED:20191025T082619Z
UID:24733-1571146200-1571153400@dsthoustonalumnae.org
SUMMARY:Joint Founders Day
DESCRIPTION:Joint Founders Day \nOne Delta Plaza
URL:https://dsthoustonalumnae.org/event/joint-founders-day/
END:VEVENT
BEGIN:VEVENT
DTSTART;TZID=America/Chicago:20191016T070000
DTEND;TZID=America/Chicago:20191016T090000
DTSTAMP:20260423T022347
CREATED:20191025T081952Z
LAST-MODIFIED:20191025T082739Z
UID:24729-1571209200-1571216400@dsthoustonalumnae.org
SUMMARY:Social Action— Naturalization Ceremony
DESCRIPTION:Social Action—\nNaturalization\nCeremony
URL:https://dsthoustonalumnae.org/event/social-action-naturalization-ceremony/
CATEGORIES:Social Action
END:VEVENT
BEGIN:VEVENT
DTSTART;TZID=America/Chicago:20191017T120000
DTEND;TZID=America/Chicago:20191017T150000
DTSTAMP:20260423T022347
CREATED:20190815T100313Z
LAST-MODIFIED:20190815T100339Z
UID:23971-1571313600-1571324400@dsthoustonalumnae.org
SUMMARY:Jazz Soiree Ticket Distribution
DESCRIPTION:For online tickets\, visit Eventbrite. \nClick here for Sponsorship Opportunities 2019 Jazz Soiree Sponsor & Donation Letter
URL:https://dsthoustonalumnae.org/event/jazz-soiree-ticket-distribution-2/
END:VEVENT
BEGIN:VEVENT
DTSTART;TZID=America/Chicago:20191019T070000
DTEND;TZID=America/Chicago:20191019T093000
DTSTAMP:20260423T022347
CREATED:20191025T081603Z
LAST-MODIFIED:20191025T081603Z
UID:24725-1571468400-1571477400@dsthoustonalumnae.org
SUMMARY:Kids\, Cops\, & Conversation
DESCRIPTION:Kids\, Cops\, &\nConversation\nODP 12:00pm-\n2:30pm
URL:https://dsthoustonalumnae.org/event/kids-cops-conversation/
CATEGORIES:Educational Development
END:VEVENT
BEGIN:VEVENT
DTSTART;TZID=America/Chicago:20191022T133000
DTEND;TZID=America/Chicago:20191022T153000
DTSTAMP:20260423T022347
CREATED:20191025T081759Z
LAST-MODIFIED:20191025T081759Z
UID:24727-1571751000-1571758200@dsthoustonalumnae.org
SUMMARY:L.E.A.D. Committee Meeting
DESCRIPTION:L.E.A.D. Committee Meeting \nConference\nCall
URL:https://dsthoustonalumnae.org/event/l-e-a-d-committee-meeting/
END:VEVENT
BEGIN:VEVENT
DTSTART;TZID=America/Chicago:20191026T050000
DTEND;TZID=America/Chicago:20191026T090000
DTSTAMP:20260423T022347
CREATED:20191025T081204Z
LAST-MODIFIED:20191025T085321Z
UID:24721-1572066000-1572080400@dsthoustonalumnae.org
SUMMARY:DID Chapter Workshops
DESCRIPTION:DID Chapter\nWorkshop\nODP— 10:00am-\n2:00pm
URL:https://dsthoustonalumnae.org/event/did-chapter-workshops/
END:VEVENT
BEGIN:VEVENT
DTSTART;TZID=America/Chicago:20191026T090000
DTEND;TZID=America/Chicago:20191026T094500
DTSTAMP:20260423T022347
CREATED:20191025T083620Z
LAST-MODIFIED:20191025T083620Z
UID:24736-1572080400-1572083100@dsthoustonalumnae.org
SUMMARY:Directory Photo Shoot - Last Call
DESCRIPTION:Directory Photo Shoot – Last Call \n 
URL:https://dsthoustonalumnae.org/event/directory-photo-shoot-last-call/
END:VEVENT
BEGIN:VEVENT
DTSTART;TZID=America/Chicago:20191031T133000
DTEND;TZID=America/Chicago:20191031T153000
DTSTAMP:20260423T022347
CREATED:20191025T081416Z
LAST-MODIFIED:20191025T081455Z
UID:24723-1572528600-1572535800@dsthoustonalumnae.org
SUMMARY:Executive Board Meeting
DESCRIPTION:Executive Board\nMeeting\nODP – 6:30 pm
URL:https://dsthoustonalumnae.org/event/executive-board-meeting-7/
END:VEVENT
END:VCALENDAR