BEGIN:VCALENDAR
VERSION:2.0
PRODID:-//DST Houston Alumnae - ECPv6.15.11//NONSGML v1.0//EN
CALSCALE:GREGORIAN
METHOD:PUBLISH
X-ORIGINAL-URL:https://dsthoustonalumnae.org
X-WR-CALDESC:Events for DST Houston Alumnae
REFRESH-INTERVAL;VALUE=DURATION:PT1H
X-Robots-Tag:noindex
X-PUBLISHED-TTL:PT1H
BEGIN:VTIMEZONE
TZID:America/Chicago
BEGIN:DAYLIGHT
TZOFFSETFROM:-0600
TZOFFSETTO:-0500
TZNAME:CDT
DTSTART:20180311T080000
END:DAYLIGHT
BEGIN:STANDARD
TZOFFSETFROM:-0500
TZOFFSETTO:-0600
TZNAME:CST
DTSTART:20181104T070000
END:STANDARD
BEGIN:DAYLIGHT
TZOFFSETFROM:-0600
TZOFFSETTO:-0500
TZNAME:CDT
DTSTART:20190310T080000
END:DAYLIGHT
BEGIN:STANDARD
TZOFFSETFROM:-0500
TZOFFSETTO:-0600
TZNAME:CST
DTSTART:20191103T070000
END:STANDARD
BEGIN:DAYLIGHT
TZOFFSETFROM:-0600
TZOFFSETTO:-0500
TZNAME:CDT
DTSTART:20200308T080000
END:DAYLIGHT
BEGIN:STANDARD
TZOFFSETFROM:-0500
TZOFFSETTO:-0600
TZNAME:CST
DTSTART:20201101T070000
END:STANDARD
END:VTIMEZONE
BEGIN:VEVENT
DTSTART;TZID=America/Chicago:20191102T093000
DTEND;TZID=America/Chicago:20191102T113000
DTSTAMP:20260422T162152
CREATED:20191025T084224Z
LAST-MODIFIED:20191025T084224Z
UID:24740-1572687000-1572694200@dsthoustonalumnae.org
SUMMARY:Chapter Meeting
DESCRIPTION:Chapter Meeting \n2:30 – 4:30 pm \nPeck Elementary \n5001 Martin Luther King Blvd.
URL:https://dsthoustonalumnae.org/event/chapter-meeting-9/
END:VEVENT
BEGIN:VEVENT
DTSTART;TZID=America/Chicago:20191103T090000
DTEND;TZID=America/Chicago:20191103T120000
DTSTAMP:20260422T162152
CREATED:20191025T084507Z
LAST-MODIFIED:20191025T084507Z
UID:24742-1572771600-1572782400@dsthoustonalumnae.org
SUMMARY:Red Carpet Event - Movie: Harriet
DESCRIPTION:Red Carpet Event – Movie: Harriet \nAMC Studio 30 \n2949 Dunvale \n3:00 PM Photos \n3:30 Movie
URL:https://dsthoustonalumnae.org/event/red-carpet-event-movie-harriet/
END:VEVENT
BEGIN:VEVENT
DTSTART;TZID=America/Chicago:20191114T110000
DTEND;TZID=America/Chicago:20191114T140000
DTSTAMP:20260422T162152
CREATED:20190815T101107Z
LAST-MODIFIED:20190906T012246Z
UID:23973-1573729200-1573740000@dsthoustonalumnae.org
SUMMARY:Jazz Soiree Ticket Distribution
DESCRIPTION:For online tickets\, visit Eventbrite. \nClick here for Sponsorship Opportunities 2019 Jazz Soiree Sponsor & Donation Letter
URL:https://dsthoustonalumnae.org/event/jazz-soiree-ticket-distribution-2-2/
CATEGORIES:Special Events
END:VEVENT
BEGIN:VEVENT
DTSTART;TZID=America/Chicago:20191121T110000
DTEND;TZID=America/Chicago:20191121T140000
DTSTAMP:20260422T162152
CREATED:20190815T101217Z
LAST-MODIFIED:20190906T010933Z
UID:23975-1574334000-1574344800@dsthoustonalumnae.org
SUMMARY:Jazz Soiree Ticket Distribution
DESCRIPTION:For online tickets\, visit Eventbrite. \nClick here for Sponsorship Opportunities 2019 Jazz Soiree Sponsor & Donation Letter
URL:https://dsthoustonalumnae.org/event/jazz-soiree-ticket-distribution-2-2-2/
CATEGORIES:Special Events
END:VEVENT
END:VCALENDAR